BEGIN:VCALENDAR
VERSION:2.0
PRODID:-//Burbank Sanitary District - ECPv6.15.17.1//NONSGML v1.0//EN
CALSCALE:GREGORIAN
METHOD:PUBLISH
X-ORIGINAL-URL:https://burbanksanitary.org
X-WR-CALDESC:Events for Burbank Sanitary District
REFRESH-INTERVAL;VALUE=DURATION:PT1H
X-Robots-Tag:noindex
X-PUBLISHED-TTL:PT1H
BEGIN:VTIMEZONE
TZID:UTC
BEGIN:STANDARD
TZOFFSETFROM:+0000
TZOFFSETTO:+0000
TZNAME:UTC
DTSTART:20230101T000000
END:STANDARD
END:VTIMEZONE
BEGIN:VEVENT
DTSTART;TZID=UTC:20240511T070000
DTEND;TZID=UTC:20240511T110000
DTSTAMP:20260423T021926
CREATED:20240322T210146Z
LAST-MODIFIED:20250113T161641Z
UID:4614-1715410800-1715425200@burbanksanitary.org
SUMMARY:Burbank Sanitary District Annual Clean Up Day – May 11\, 2024
DESCRIPTION:Please check your mail\, you should have received a Annual Clean Up Flyer in the mail. If not\, please
URL:https://burbanksanitary.org/event/event1-2/
LOCATION:Burbank Sanitary District\, 20863 Stevens Creek Blvd\, Suite 100\, Cupertino\, CA\, 95014\, United States
CATEGORIES:Cleanup Day
END:VEVENT
BEGIN:VEVENT
DTSTART;TZID=UTC:20240521T190000
DTEND;TZID=UTC:20240521T210000
DTSTAMP:20260423T021927
CREATED:20240522T004730Z
LAST-MODIFIED:20240522T005140Z
UID:4730-1716318000-1716325200@burbanksanitary.org
SUMMARY:BSD Board Meeting – May 21\, 2024
DESCRIPTION:Download Board Meeting Packet
URL:https://burbanksanitary.org/event/https-burbanksanitary-org-wp-content-uploads-2024-05-05-21-24-bsd-agenda-pdf/
LOCATION:Burbank Sanitary District\, 20863 Stevens Creek Blvd\, Suite 100\, Cupertino\, CA\, 95014\, United States
CATEGORIES:Board Meeting
END:VEVENT
END:VCALENDAR